BEGIN:VCALENDAR
VERSION:2.0
PRODID:-//Library Market//iCal Export//EN
BEGIN:VEVENT
SUMMARY:Book Bus
UID:14848
DTSTAMP:20260421T052800Z
DTSTART:20260709T170000Z
DTEND:20260709T200000Z
LOCATION:East Lake Community Library, 4125 East Lake Rd, Palm Harbor, FL 3
 4685, United States
ROOM: East Lake Room
DESCRIPTION:
URL:https://eastlake.librarycalendar.com/event/book-bus-14848
END:VEVENT
END:VCALENDAR
