BEGIN:VCALENDAR
VERSION:2.0
PRODID:-//Library Market//iCal Export//EN
BEGIN:VEVENT
SUMMARY:CWE Visit
UID:14328
DTSTAMP:20260423T041800Z
DTSTART:20260402T133000Z
DTEND:20260402T150000Z
LOCATION:East Lake Community Library, 4125 East Lake Rd, Palm Harbor, FL 3
 4685, United States
ROOM: East Lake Room
DESCRIPTION:CWE visit (Closed to Public)
URL:https://eastlake.librarycalendar.com/event/cwe-visit-14328
END:VEVENT
END:VCALENDAR
